BEGIN:VCALENDAR
VERSION:2.0
PRODID:-//Contratero//ES
CALSCALE:GREGORIAN
METHOD:PUBLISH
BEGIN:VEVENT
UID:EMPDM SE 343/25@contratero.es
DTSTAMP:20260419T135012Z
DTSTART:20251201T235959
DTEND:20251202T005959
SUMMARY:Cierre: Contrato de Servicio para la continuidad de "Gesti
DESCRIPTION:Contrato de Servicio para la continuidad de "Gestiona" como programa implantado en la Administración Local para la Gestión de la Administración Electrónica en el Puerto Deportivo de Marbella\\n\\nOrganismo: Vicepresidencia de la Sociedad Municipal Puerto Deportivo de Marbella S.A.\\n\\nVer en Contratero: https://contratero.es/contracts/EMPDM SE 343/25
URL:https://contratero.es/contracts/EMPDM SE 343/25
STATUS:CONFIRMED
BEGIN:VALARM
TRIGGER:-P1D
ACTION:DISPLAY
DESCRIPTION:Recordatorio: Contrato de Servicio para la c
END:VALARM
END:VEVENT
END:VCALENDAR